Workbook

Sheet 【提出様式】受賞者の概況
A1: 8
A2: ↑参加年度を入力 | B2: =TEXT("令和"&A1&"年度（第"&A1+57&"回）農林水産祭参加表彰行事農林水産大臣賞選賞審査報告書補完資料",1) -> 令和8年度（第65回）農林水産祭参加表彰行事農林水産大臣賞選賞審査報告書補完資料
I4: 都道府県名
I5: 提出年月日
B6: ○ 林産部門
B7: 部門 | C7: 林 産
B9: 種目 | C9: 【 】産物 | D9: 【 】技術・ほ場 | E9: 【 】経営 | F9: 【 】女性の活躍
B11: 「女性の活躍」選賞審査希望 | D11: 【 】 | E11: ※「女性の活躍」での審査を希望する場合は【 】に○を記入の上、別紙様式にも記入してください。
E12: ★夫婦連名の場合でも、女性（配偶者等）の貢献度が高い場合は「女性の活躍」選賞審査をご検討ください。
B14: 品目
B16: 表彰行事名
B18: （ふりがな） 受賞者（団体）名 | H18: 性別 | I18: 男 ・ 女 ・ その他
B20: ※夫婦連名での受賞の場合、上段に主たる経営者の、下段に配偶者の氏名を記入。受賞者が団体の場合は、上段に「団体名（代表 ○○ ○○）」と記載。
B21: ※性別について、受賞者が団体の場合は代表者の、受賞者が夫婦連名の場合には主たる経営者の性別に○。
B23: 郵便番号 | D23: 住所（所在地）
B25: 個人・団体の別 【該当区分に〇】 | C25: 個人・家族 | D25: 団体・法人
E26: ※「団体・法人」に○を付すと、以下項目が自動変更されるので、該当する場合は必ず○をつけてください。
B28: =IF(D26="〇","設立年月日","生年月日") -> 生年月日 | E28: =IF(D26="〇","設立年数","年齢") -> 年齢
B29: =IF(D26="〇","代表者の生年月日","生年月日（配偶者）") -> 生年月日（配偶者） | E29: =IF(D26="〇","代表者年齢","年齢（配偶者）") -> 年齢（配偶者） | I29: =IF(D26="〇","","←夫婦連名の場合に入力") -> ←夫婦連名の場合に入力
B30: =TEXT("※年齢・設立年数は、令和"&A1&"年7月1日時点の値を記入してください。",1) -> ※年齢・設立年数は、令和8年7月1日時点の値を記入してください。
B32: ホームページアドレス | C32: http:// | J32: ※ＨＰを開設している場合
B34: 後継者の有無 | D34: =IF(D26="〇","後継者の現役職","後継者の受賞者との続柄") -> 後継者の受賞者との続柄 | G34: 後継者の年齢 | I34: 経営移譲
B35: ※後継者とは、受賞者との続柄等に関わらず、経営を実質的に継承する者を指します。
B36: ※後継者が「無」の場合は、２つ目以降の回答欄入力は不要です。
B38: 青色申告
B40: 家族協定の状況 | C40: 家族への報酬 | E40: 家族報酬月額 | F40: 万円
C41: 休日の設定 | E41: 前年度年間休日 | F41: 日
B42: ※家族への報酬、休日の設定が「無」の場合は、右隣の回答欄入力は不要です。
B44: =TEXT("１．受賞者の概況（令和"&A1-1&"年度）",1) -> １．受賞者の概況（令和7年度）
B45: （1）従事者（林業従事者・苗木生産者・きのこ生産者等）
B46: =IF(D26="〇","①：構成員数（非従事者を含む）","①：家族人数（非従事者を含む）") -> ①：家族人数（非従事者を含む） | D46: ②：①のうち従事者 | F46: ②のうち男性人数 | H46: ②のうち女性人数 | J46: ②の延べ労働日数
B47: 人 | D47: 人 | F47: 人 | H47: 人 | J47: 人日
B48: ※「従事者」とは、受賞財に関わる業務に従事する者を指します（実際の作業員だけでなく、方針を決定する経営者や役員、総務・経理担当者を含みます）。
B50: (2)年間従事時間（（１）の②に該当する者について） | K50: （時間）
B51: =IF(D26="〇","①：代表","①：本人") -> ①：本人 | C51: =IF(D26="〇","","②：家族") -> ②：家族 | D51: =IF(D26="〇","②：正規雇用職員","") | F51: =IF(D26="〇","③：臨時雇用職員","") | H51: =IF(D26="〇","④：合計（①+②+③）","③：合計（①+②）") -> ③：合計（①+②） | J51: =IF(D26="〇","④のうち男性","③のうち男性") -> ③のうち男性 | K51: =IF(D26="〇","④のうち女性","③のうち女性") -> ③のうち女性
B54: (3)経営規模（前年度の施業の有無に関わらず、所有・管理している施業地の内訳） | K54: （ha:小数点以下第２位まで）
C55: 森林 | D55: 苗畑 | E55: その他（ ） | G55: その他（ ） | I55: その他（ ） | K55: 合計
B56: 自己所有
B57: 借入
B58: 経営受託
...

Sheet 【記載例】受賞者の概況
A1: 8
A2: ↑参加年度を入力 | B2: =TEXT("令和"&A1&"年度（第"&A1+57&"回）農林水産祭参加表彰行事農林水産大臣賞選賞審査報告書補完資料",1) -> 令和8年度（第65回）農林水産祭参加表彰行事農林水産大臣賞選賞審査報告書補完資料
I4: 都道府県名
I5: 提出年月日
B6: ○ 林産部門
B7: 部門 | C7: 林 産
B9: 種目 | C9: 【 】産物 | D9: 【 】技術・ほ場 | E9: 【 】経営 | F9: 【 】女性の活躍
B11: 「女性の活躍」選賞審査希望 | D11: 【 】 | E11: ※「女性の活躍」での審査を希望する場合は【 】に○を記入の上、別紙様式にも記入してください。
E12: ★夫婦連名の場合でも、女性（配偶者等）の貢献度が高い場合は「女性の活躍」選賞審査をご検討ください。
B14: 品目
B16: 表彰行事名
B18: （ふりがな） 受賞者（団体）名 | H18: 性別 | I18: 男 ・ 女 ・ その他
B20: ※夫婦連名での受賞の場合、上段に主たる経営者の、下段に配偶者の氏名を記入。受賞者が団体の場合は、上段に「団体名（代表 ○○ ○○）」と記載。
B21: ※性別について、受賞者が団体の場合は代表者の、受賞者が夫婦連名の場合には主たる経営者の性別に○。
B23: 郵便番号 | D23: 住所（所在地）
B25: 個人・団体の別 【該当区分に〇】 | C25: 個人・家族 | D25: 団体・法人
E26: ※「団体・法人」に○を付すと、以下項目が自動変更されるので、該当する場合は必ず○をつけてください。
B28: =IF(D26="〇","設立年月日","生年月日") -> 生年月日 | E28: =IF(D26="〇","設立年数","年齢") -> 年齢
B29: =IF(D26="〇","代表者の生年月日","生年月日（配偶者）") -> 生年月日（配偶者） | E29: =IF(D26="〇","代表者年齢","年齢（配偶者）") -> 年齢（配偶者） | I29: =IF(D26="〇","","←夫婦連名の場合に入力") -> ←夫婦連名の場合に入力
B30: =TEXT("※年齢・設立年数は、令和"&A1&"年7月1日時点の値を記入してください。",1) -> ※年齢・設立年数は、令和8年7月1日時点の値を記入してください。
B32: ホームページアドレス | C32: http:// | J32: ※ＨＰを開設している場合
B34: 後継者の有無 | D34: =IF(D26="〇","後継者の現役職","後継者の受賞者との続柄") -> 後継者の受賞者との続柄 | G34: 後継者の年齢 | I34: 経営移譲
B35: ※後継者とは、受賞者との続柄等に関わらず、経営を実質的に継承する者を指します。
B36: ※後継者が「無」の場合は、２つ目以降の回答欄入力は不要です。
B38: 青色申告
B40: 家族協定の状況 | C40: 家族への報酬 | E40: 家族報酬月額 | F40: 万円
C41: 休日の設定 | E41: 前年度年間休日 | F41: 日
B42: ※家族への報酬、休日の設定が「無」の場合は、右隣の回答欄入力は不要です。
B44: =TEXT("１．受賞者の概況（令和"&A1-1&"年度）",1) -> １．受賞者の概況（令和7年度）
B45: （1）従事者（林業従事者・苗木生産者・きのこ生産者等）
B46: =IF(D26="〇","①：構成員数（非従事者を含む）","①：家族人数（非従事者を含む）") -> ①：家族人数（非従事者を含む） | D46: ②：①のうち従事者 | F46: ②のうち男性人数 | H46: ②のうち女性人数 | J46: ②の延べ労働日数
B47: 人 | D47: 人 | F47: 人 | H47: 人 | J47: 人日
B48: ※「従事者」とは、受賞財に関わる業務に従事する者を指します（実際の作業員だけでなく、方針を決定する経営者や役員、総務・経理担当者を含みます）。
B50: (2)年間従事時間（（１）の②に該当する者について） | K50: （時間）
B51: =IF(D26="〇","①：代表","①：本人") -> ①：本人 | C51: =IF(D26="〇","","②：家族") -> ②：家族 | D51: =IF(D26="〇","②：正規雇用職員","") | F51: =IF(D26="〇","③：臨時雇用職員","") | H51: =IF(D26="〇","④：合計（①+②+③）","③：合計（①+②）") -> ③：合計（①+②） | J51: =IF(D26="〇","④のうち男性","③のうち男性") -> ③のうち男性 | K51: =IF(D26="〇","④のうち女性","③のうち女性") -> ③のうち女性
B54: (3)経営規模（前年度の施業の有無に関わらず、所有・管理している施業地の内訳） | K54: （ha:小数点以下第２位まで）
C55: 森林 | D55: 苗畑 | E55: その他（ ） | G55: その他（ ） | I55: その他（ ） | K55: 合計
B56: 自己所有
B57: 借入
B58: 経営受託
...

Sheet 【提出様式】品目ごとの概況 
B1: ２．品目ごとの概況
AN2: ※林産部門 （品目）
B3: 品目（ ） | U3: ※ 受賞財ごとに記入してください。
A4: ※ 記入しない項目は、行を削除（または非表示）してください。
A5: ※ 枠が足りない場合は適宜拡幅し、充実した内容にしてください。また、適宜、写真・図を添付して受賞財や経営状況をPRしてください。
A7: (1)施業面積 | AS7: （ｈａ）
A8: 区分 | F8: 森林 | X8: 竹林 | AB8: 山林用苗畑 | AF8: 緑化用苗畑 | AJ8: その他
F9: スギ | J9: ヒノキ | N9: その他針葉樹 | S9: 広葉樹 | AJ9: （ ） | AN9: （ ） | AR9: （ ）
A10: =TEXT("令和"&【提出様式】受賞者の概況!$A$1-3&"年度",1) -> 令和5年度
A11: =TEXT("令和"&【提出様式】受賞者の概況!$A$1-2&"年度",1) -> 令和6年度
A12: =TEXT("令和"&【提出様式】受賞者の概況!$A$1-1&"年度",1)&CHAR(10)&TEXT("（予定・実績）",1) -> 令和7年度 （予定・実績） | AV12: ←（予定・実績）用の〇
A13: ※（予定・実績）についてはどちらかに〇をつけてください。
A14: ※「その他」は、下部（）に樹種名や耕地名を記入してください。
A15: ※請負・委託事業については、括弧書きで内数を記入してください。
A17: (2)過去3年間における経営森林の伐採状況
A18: 主要樹種
A19: 人天区分
A20: 伐採時期
A21: 面積（ｈａ）
A22: 作業種
A23: 伐採齢（年）
A24: =TEXT("施業上の",1)&CHAR(10)&TEXT("技術的特徴",1) -> 施業上の 技術的特徴
A25: ※伐採種は採用している作業種（間伐、皆伐高林作業、択伐高林作業等）を指します。
A26: ※請負・委託事業については、括弧書きで内数を記入してください。
A28: (3)森林の造林・保育面積 | AT28: （ｈａ）
A29: 区分 | F29: 人工林施業 | AF29: 天然林施業
F30: 造林 | L30: 保育 | X30: その他① （ ） | AB30: その他② （ ） | AF30: 更新補助 （ ） | AJ30: 除伐 | AM30: その他① （ ） | AQ30: その他② （ ）
F31: 地拵 | I31: 植栽 | L31: 下刈り | O31: つる切り | R31: 除伐 | U31: 枝打ち
A32: =TEXT("令和"&【提出様式】受賞者の概況!$A$1-3&"年度",1) -> 令和5年度
A33: =TEXT("令和"&【提出様式】受賞者の概況!$A$1-2&"年度",1) -> 令和6年度
A34: =TEXT("令和"&【提出様式】受賞者の概況!$A$1-1&"年度",1)&CHAR(10)&TEXT("（予定・実績）",1) -> 令和7年度 （予定・実績）
A35: ※（予定・実績）についてはどちらかに〇をつけてください。
A36: ※「その他」、「更新補助」は、下部（）に作業種を記入。獣害防除は「その他」に記入してください。
A37: ※請負・委託事業については、括弧書きで内数を記入してください。
A39: (4)直営実施の投入労働量
A40: 区分 | F40: 年平均直営投入労働量 | Z40: 雇用労働力の人数
F41: 自家労働力（人日） | P41: 雇用労働力（人日） | Z41: 常用（人） | AJ41: 臨時（人）
A42: =TEXT("令和"&【提出様式】受賞者の概況!$A$1-3&"年度",1) -> 令和5年度
A43: =TEXT("令和"&【提出様式】受賞者の概況!$A$1-2&"年度",1) -> 令和6年度
A44: =TEXT("令和"&【提出様式】受賞者の概況!$A$1-1&"年度",1)&CHAR(10)&TEXT("（予定・実績）",1) -> 令和7年度 （予定・実績）
...

Sheet 【提出様式】女性の活躍補完資料
S1: 別紙様式
B2: 「女性の活躍」種目選賞審査報告書補完資料
B4: ①取組の経緯と概要
B10: ②女性が働きやすい環境整備について
B16: ③女性の積極的な登用について
B22: ④女性の事業や地域農林漁業発展への貢献について
B28: ⑤その他特徴的な取組ついて
B34: ⑥取組の波及性・普及性等について
B41: ※１ 「②女性が働きやすい環境整備について」の例：家族経営協定の締結、就業規則の制定、その他福利厚生、作業環境の改善等によるもの。 ※２ 「③女性の積極的な登用について」の例：役員、管理職等への登用、経営方針や組織運営への参画、仕事に応じた報酬、研修等の参加への配慮等。 ※３ 就業規則、家族経営協定、役員名簿等、その他女性の活躍状況が分かる資料を添付すること。

Sheet 【記載例 (受賞者の概況)】（夫婦連名） 
B1: 夫婦連名の場合の記載例
A12: 8
A13: ↑参加年度を入力 | B13: =TEXT("令和"&A12&"年度（第"&A12+57&"回）農林水産祭参加表彰行事農林水産大臣賞選賞審査報告書補完資料",1) -> 令和8年度（第65回）農林水産祭参加表彰行事農林水産大臣賞選賞審査報告書補完資料
I15: 都道府県名
I16: 提出年月日
B17: ○ 林産部門
B18: 部門 | C18: 林 産
B20: 種目 | C20: 【 】産物 | D20: 【 】技術・ほ場 | E20: 【 】経営 | F20: 【 】女性の活躍
B22: 「女性の活躍」選賞審査希望 | D22: 【 】 | E22: ※「女性の活躍」での審査を希望する場合は【 】に○を記入の上、別紙様式にも記入してください。
E23: ★夫婦連名の場合でも、女性（配偶者等）の貢献度が高い場合は「女性の活躍」選賞審査をご検討ください。
B25: 品目
B27: 表彰行事名
B29: （ふりがな） 受賞者（団体）名 | C29: 林野 太郎 | H29: 性別 | I29: 男 ・ 女 ・ その他
C30: 林野 花子
B31: ※夫婦連名での受賞の場合、上段に主たる経営者の、下段に配偶者の氏名を記入。受賞者が団体の場合は、上段に「団体名（代表 ○○ ○○）」と記載。
B32: ※性別について、受賞者が団体の場合は代表者の、受賞者が夫婦連名の場合には主たる経営者の性別に○。
B34: 郵便番号 | D34: 住所（所在地）
B36: 個人・団体の別 【該当区分に〇】 | C36: 個人・家族 | D36: 団体・法人
E37: ※「団体・法人」に○を付すと、以下項目が自動変更されるので、該当する場合は必ず○をつけてください。
B39: =IF(D37="〇","設立年月日","生年月日") -> 生年月日 | C39: 昭和/平成〇年〇月〇日 | E39: =IF(D37="〇","設立年数","年齢") -> 年齢 | G39: ○○
B40: =IF(D37="〇","代表者の生年月日","生年月日（配偶者）") -> 生年月日（配偶者） | C40: 昭和/平成△年△月△日 | E40: =IF(D37="〇","代表者年齢","年齢（配偶者）") -> 年齢（配偶者） | G40: △△ | I40: =IF(D37="〇","","←夫婦連名の場合に入力") -> ←夫婦連名の場合に入力
B41: =TEXT("※年齢・設立年数は、令和"&A12&"年7月1日時点の値を記入してください。",1) -> ※年齢・設立年数は、令和8年7月1日時点の値を記入してください。
B43: ホームページアドレス | C43: http:// | J43: ※ＨＰを開設している場合
B45: 後継者の有無 | D45: =IF(D37="〇","後継者の現役職","後継者の受賞者との続柄") -> 後継者の受賞者との続柄 | G45: 後継者の年齢 | I45: 経営移譲
B46: ※後継者とは、受賞者との続柄等に関わらず、経営を実質的に継承する者を指します。
B47: ※後継者が「無」の場合は、２つ目以降の回答欄入力は不要です。
B49: 青色申告
B51: 家族協定の状況 | C51: 家族への報酬 | E51: 家族報酬月額 | F51: 万円
C52: 休日の設定 | E52: 前年度年間休日 | F52: 日
B53: ※家族への報酬、休日の設定が「無」の場合は、右隣の回答欄入力は不要です。
B55: =TEXT("１．受賞者の概況（令和"&#REF!-1&"年度）",1) -> #REF!
B56: （１）従事者（林業従事者・苗木生産者・きのこ生産者等）
B57: =IF(D37="〇","①：構成員数（非従事者を含む）","①：家族人数（非従事者を含む）") -> ①：家族人数（非従事者を含む） | D57: ②：①のうち従事者 | F57: ②のうち男性人数 | H57: ②のうち女性人数 | J57: ②の延べ労働日数
B58: 人 | D58: 人 | F58: 人 | H58: 人 | J58: 人日
B59: ※「従事者」とは、受賞財に関わる業務に従事する者を指します（実際の作業員だけでなく、方針を決定する経営者や役員、総務・経理担当者を含みます）。
B61: (2)年間従事時間（（１）の②に該当する者について） | K61: （時間）
B62: =IF(D37="〇","①：代表","①：本人") -> ①：本人 | C62: =IF(D37="〇","","②：家族") -> ②：家族 | D62: =IF(D37="〇","②：正規雇用職員","") | F62: =IF(D37="〇","③：臨時雇用職員","") | H62: =IF(D37="〇","④：合計（①+②+③）","③：合計（①+②）") -> ③：合計（①+②） | J62: =IF(D37="〇","④のうち男性","③のうち男性") -> ③のうち男性 | K62: =IF(D37="〇","④のうち女性","③のうち女性") -> ③のうち女性
B65: (3)経営規模（前年度の施業の有無に関わらず、所有・管理している施業地の内訳） | K65: （ha:小数点以下第２位まで）
C66: 森林 | D66: 苗畑 | E66: その他（ ） | G66: その他（ ） | I66: その他（ ） | K66: 合計
B67: 自己所有
...

Sheet 【記載例（受賞者の概況）】（林業経営）
B1: 林業経営 | G1: 経営・技術の特色等の記載の良い例
B3: １．受賞者の概要 | C3: （事実に基づき正確な情報を記載）
B4: （１）～（５）略
B6: （６）経営・技術の特色等
B7: ①経営に対する理念
B8: （省略）
B12: ②経営の特色（規模拡大の経過、他林家との連携、簿記記帳、販売戦略、経営移譲、複合経営等）
B13: 計画的かつ持続的な森林整備の推進を経営の柱に据え、施業地の集約化を図るべく森林所有者の施業提案を行う「森林施業プランナー」の育成、計画的施業を実施するための森林経営計画の作成、高性能林業機械の積極的な導入と有効活用を図る人材の育成などの作業体制整備と素材生産コスト縮減、経営状態を明確にするための月次決算体制の導入などに鋭意取り組んだ。これによって、平成○年度に〇億円であった取扱高は令和○年度には〇億円を超えるまでとなっている。 また、平成〇〇年からは、林業専用道の開設や森林経営計画などの国の新しい施策に積極的に取り組み、集落座談会の回数は年間○回以上となった。これらの取組の結果、認定された森林経営計画は平成〇〇年の〇〇団地、〇〇haから、平成〇〇年の３年間で約○倍の〇〇団地、〇〇haまで増え、安定的な経営を実現している。間伐材生産量の増大に伴い、従来からの市場出荷に加えて、管内製材工場及び合板工場へ直接納入する協定取引に取り組み、中間経費の削減を実現している。 また、各工場への直接納入に係る経費の削減や間伐材の増加に伴い発生するＣ材の有利販売が課題となったため、木質バイオマス発電に着目し、行政や関係団体と連携してチップ工場の誘致を図った。チップ工場の隣接地には中間土場を設置し、トレーラ等の大型トラックの使用が容易になるとともに、Ｃ材については輸送コストの削減に加えて、材の入荷状況を間近で把握することができ、計画的操業に安心して取り組める体制となっている。
B27: ③技術の特色（先進機器の導入、省力化、低コスト化、高品質化、環境保全への取組等）
B28: 低コストで持続的な森林活用を図るため、長期間の継続使用を前提に、林業専用道と森林作業道を組み合わせた路網整備を進めている。林業作業道の開設に当たっては、地形に追従した線形の決定や森林所有者への説明、事業費に合わせた構造物の選定をするなどの工夫をしている。路面表流水を処理する木製横断排水工では、設置した丸太が車両通行により移動して機能しなくなることを防ぐため、固定金具を開発するなど、創意工夫に努めている。 また、急しゅん地での作業量の増加傾向を踏まえ、架線系システムの導入に取り組み始めている。昨年はオーストリア製自走式搬器を導入、今年はタワーヤーダを導入し、架線系作業班を１班増やすなど体制を強化している。 このような取組により、平成〇〇年に〇㎞／年だった路網開設延長は、平成〇〇年には〇㎞／年（全国平均（××県平均）〇㎞／年）に、同じく〇〇㎥だった素材生産量は平成〇〇年には〇〇㎥（全国平均（××県平均）〇㎞／年）となった。
B39: ④地域に対する貢献（地域における位置づけ、他林家・地域に与える影響等）
B40: チップ工場の誘致により、チップ工場がなかった時期には産業廃棄物として処理されていた建設業者・造園事業者からの支障木や庭木剪定枝も現在は資源として再利用されるようになり、地域の環境保全、経済の循環に貢献している。 また、林業に新規参入した建設業者に得意分野である路網整備を積極的に担わせた。このことにより、参入後の事業展開を円滑に進める効果があったのに加え、ほかの林業事業体との連携ともなり、地域全体の技術向上や林業への定着に貢献している。施業集約化や境界明確化など森林所有者との合意形成が必要な分野を担い、自社に不足している労務や機械資源を異業種やほかの林業事業体と連携して補完するという間伐生産体制は、地元に定着するとともに、モデルともなっており、地域全体の素材生産量の増大に寄与している。 職員の採用にあたっては、林業経験の有無を問わずＩターン者の受け皿ともなっており、地域の人口増加をもたらすとともに、事業の拡大等により、ここ１０年間で職員数は約○名増えており、地元住民の雇用創出にも貢献している。 また、企業や教育機関と連携して現地作業や森林教育などを支援しており、竹林を活用した地域づくりや、学校林などを利用した子どもたちの森林学習等の講師として、地域の森林の重要性や魅力を伝えている。
B57: ⑤女性の活躍状況（女性が働きやすい環境整備、女性の積極的な登用、女性の事業発展への貢献、波及性・普及性等）
B58: 積極的にハーベスタやプロセッサなどの大型林業機械を導入し、腕力が必要な作業を極力減らすことで、女性作業員があらゆる作業工程において、男性と同様に活躍できるような環境を整備している。 受賞者の妻は、経理・労務管理など事務作業を主に担っているが、従来アナログで管理していた資料を積極的に電子化したことで、データの管理や活用をより容易に行えるようになった。また、作業員の日報を電子管理し、リモートで作業指示や報告ができる体制を構築し、業務の効率化に大きく貢献した。 新規従業員確保のための採用活動では、女性従業員が中心となって会社説明を行っており、女性林業者が参入しやすいよう工夫している。
... B81: ⑦過去の受賞歴
B82: 受賞年月日 | C82: 行事の名称 | F82: 賞の名称 | J82: 備考
B85: ※天皇杯等三賞についても、受賞歴がある場合は記入する。また、親子等に同賞の受賞者がいる場合には備考欄に氏名及び続柄を記入してください。
B86: ※行数が足りない場合は、適宜追加してください。
B88: ○主催団体担当者連絡先
B89: 所属 | C89: ○○協同組合連合会事務局
B90: 担当者氏名
B91: 電話番号 | E91: 内線
B92: Ｅ－ＭＡＩＬ
B94: ○都道府県担当者連絡先
B95: 所属 | C95: ○○都道府県 ○○○部 ○○○課 ○○○係
B96: 担当者氏名
B97: 電話番号 | E97: 内線
B98: Ｅ－ＭＡＩＬ

Sheet 【記載例（受賞者の概況）】（技術・ほ場）
B1: 技術・ほ場 | G1: 経営・技術の特色等の記載の良い例
B3: １．受賞者の概要 | C3: （事実に基づき正確な情報を記載）
B4: （１）～（５）略
B6: （６）経営・技術の特色等
B7: ①経営に対する理念
B8: （省略）
B12: ②経営の特色（規模拡大の経過、他林家との連携、簿記記帳、販売戦略、経営移譲、複合経営等）
B13: 〇〇会社の前身となる△△桑園が明治初期に養蚕用桑苗生産を行ったのが苗木生産の始まりで、その後、戦後の木材需要の高まりに合わせ、造林用苗木の生産に移行していった。令和〇〇年には法人化し、現在に至る。 造林用苗木としては、スギ、ヒノキ、カラマツといった針葉樹を主に生産していたが、森林生態系の多様性に対応した樹種の供給を目指し、生産する樹種を段階的に増やし、他の苗木生産者がスギやヒノキといった造林用苗木に特化しているケースが多い中、緑化木等苗木も含め、針葉樹・広葉樹を合わせ常時〇種類以上の樹種を生産している。苗木の販売先も、北海道から沖縄県まで日本全国に渡っており、本数・樹種数ともに他に類を見ない規模を誇る。 平成〇年からはコンテナ苗の生産に取り組み始め、針葉樹については段階的に裸苗からコンテナ苗に栽培方法を移行し、令和〇年には針葉樹の山行き苗木の〇％をコンテナ苗が占め、造林用苗木と緑化木等苗木合わせた収益は、平成〇年度には約〇千円だったところ、令和〇年には約〇千円に増大し、約〇倍の増収に成功した。
B25: ③技術の特色（先進機器の導入、省力化、低コスト化、高品質化、環境保全への取組等）
B26: ・栽培する樹種ごとに種子の発芽促進・休眠打破の方法、肥培等管理方法をデータベース化し、一連の作業をマニュアル化することで、安定した品質と得苗率を維持している。 ・作業効率向上のため、機械化が可能な作業（播種、植付、除草作）積極的な施設導入を図っており、従来〇人体制で作業していたところ、〇人体制で行うことが可能となった。 ·〇〇㎡規模となる散水用スプリンクラーは、集中配電盤により一括で管理され、天候等に応じた効率的な散水の実施に役立っている。 ・苗木の出荷については、自社独自の選別基準により、苗木の選別を丁寧に行うことで、各顧客の求める品質の苗木提供につなげている。 •平成〇年から栽培を始めたコンテナ苗生産に用いる培土は、自社オリジナルの配合で、県内の他の生産者にも販売を行っている。 ・多品種を栽培する広葉樹の種子の多くは長期の保存が難しく、年や箇所による豊凶の差が激しいことから、自社の敷地内に採種園を設けている。また、他者所有林の立木を購入し、採種木とするなど、複数の独自ルートを持つことにより種子の安定確保を図っている。
B37: ④地域に対する貢献（地域における位置づけ、他林家・地域に与える影響等）
B38: ・当地域は気候や交通事情により苗木生産に不向きな地域であり、戦後の拡大造林期には数多く活動していた山林用苗木生産者も、現在では○世帯程度しか残っていない。一方で、県の造林面積は年々増加している中、○○会社では、県の年間需要本数のうち○割を供給しており、地域の再造林推進に大きく貢献している。 ・国内の苗木生産者との情報交換だけでなく、欧州の苗木生産者との交流も通しながら、最新の苗木生産技術の習得に努めており、毎年恒例の森林組合や林業事業体を対象とした県苗組主催の研修会では講師となって、確立した技術の紹介や実演を行っている。また、全国から視察も積極的に受け入れており、国内の苗木生産技術の発展に大きく寄与している。 ・平成〇年より開始したコンテナ苗生産においては、最適なコンテナ苗の培土の配合について独自に検討を重ね続けているが、県内の他のコンテナ苗生産者に対しても完成した培土を供給することで、県内の良質なコンテナ苗生産の体制確立に大きく貢献している。
B52: ⑤女性の活躍状況（女性が働きやすい環境整備、女性の積極的な登用、女性の事業発展への貢献、波及性・普及性等）
B53: 苗木生産は女性の繊細さが生かせる業務だが、季節による業務量の変動が大きく、雇用形態として季節雇用やパートタイムが多く用いられている。そのような中、業務の効率化と他品種の生産体制を確立することで、現在女性が正規雇用職員の過半数を占め、女性が生き生きと活躍できる職場環境を実現できている。 女性が働きやすい環境を考慮し、女性従業員専用の休憩施設を設置している。また、作業後に使用できるように、従業員用のシャワー室を設置するなど、女性が働きやすい環境づくりを意識した結果、男性にとっても働きやすい環境を整備している。 また、制度面では育児介護休業規程等と設けるなど、従業員が人生の様々な節目を経る中で、長く働き続けられるよう会社として各種制度を整備している。
... B76: ⑦過去の受賞歴
B77: 受賞年月日 | C77: 行事の名称 | F77: 賞の名称 | J77: 備考
B80: ※天皇杯等三賞についても、受賞歴がある場合は記入する。また、親子等に同賞の受賞者がいる場合には備考欄に氏名及び続柄を記入してください。
B81: ※行数が足りない場合は、適宜追加してください。
B83: ○主催団体担当者連絡先
B84: 所属 | C84: ○○協同組合連合会事務局
B85: 担当者氏名
B86: 電話番号 | E86: 内線
B87: Ｅ－ＭＡＩＬ
B89: ○都道府県担当者連絡先
B90: 所属 | C90: ○○都道府県 ○○○部 ○○○課 ○○○係
B91: 担当者氏名
B92: 電話番号 | E92: 内線
B93: Ｅ－ＭＡＩＬ

Sheet 【記載例（受賞者の概況）】（産物）
B1: 産物 | G1: 経営・技術の特色等の記載の良い例
B3: １．受賞者の概要 | C3: （事実に基づき正確な情報を記載）
B4: （１）～（５）略
B6: （６）経営・技術の特色等
B7: ①経営に対する理念
B8: （省略）
B12: ②経営の特色（規模拡大の経過、他林家との連携、簿記記帳、販売戦略、経営移譲、複合経営等）
B13: 父が昭和○年に始めたしいたけ栽培に、専門学校卒業後から後継者として関わるようになり、平成○年に経営を譲渡された。経営譲渡後は、経営規模の拡大のため、施設の拡張や先端機器（○○社の○○）を導入した結果、先代の乾しいたけ生産量○トン/年だったところ、現在では○トン/年まで向上しており、地域の一大生産者として認められるまでに発展を遂げた。 しいたけ原木となる○○は、所有山林からの採取だけでなく、長年に亘って管理が放棄されてきた他の所有者の山林からも伐採することで調達を行っている。伐採後は確実に更新作業を行っているため、地域山林の適切な整備にも繋がっている。 販売方法については、経営を始めた当初は直売所や農協への出荷のみであったが、平成○年からＥＣサイトを活用した販売を始めた結果、出荷先が全国規模となり、販売額も○倍に増加した。また、加工販売にも着手しており、商品のブランド化が一定の成功を収めたおかげで、生しいたけや乾しいたけのまま出荷した場合より、収益が○％向上している。
B27: ③技術の特色（先進機器の導入、省力化、低コスト化、高品質化、環境保全への取組等）
B28: ・伐採した木は、枝葉を切り落とさず、そのままの状態にし、植菌後の菌糸の成長が進むよう、葉枯らし乾燥を行うことで、良質なほだ木につながる工夫をしている。葉枯らし乾燥を行ったクヌギをバックホウで集材し、チェンソーで玉切りする。玉切り原木はユニック車やダンプに積み込み、栽培施設に近い平地に運搬する。これらの作業は、しいたけ原木生産の中で最も重労働であるが、小型建機等を活用することで、省力化、作業負担の軽減を図っている。 ・３年目以降のほだ木については、発生促進等のための散水施設が完備されたスギ林のほだ場に伏せ込み、ロット毎に発生散水や成長散水などの散水を行い、集中発生を避ける工夫をしている。集中発生を避けることで、労働力と収入の平準化につなげている。また、立地の異なる複数のほだ場を活用することで、気温の差や天候の違いによりしいたけの発生時期をズラし、収穫年による豊凶の差が平準化されるよう工夫している。 ・ハウス栽培と露地栽培を併用し、散水や通風管理など気象条件にあったきめ細やかな管理を行うことで、良質な天白・茶花冬菇を生産している。
B39: ④地域に対する貢献（地域における位置づけ、他林家・地域に与える影響等）
B40: 〇〇氏は、乾しいたけの施設栽培において理想とされる身の締まった天白系きのこの栽培方法を確立し、地域の生産者に指導しているほか、親子二代で乾しいたけの専業経営に取り組む優れた経営モデルとして県内の後継者、担い手育成に貢献している。また、全国規模の品評会である「全農乾椎茸品評会」において、何度も農林水産大臣賞を受賞するなど、〇産乾しいたけの品質の良さを全国にアピールし、知名度の向上にも貢献している。 しいたけ原木の伐採や玉切り作業は急傾斜地で行われることが多いため、生産の開始や継続に大きな課題になっている。そこで、周辺生産者の要望に沿って、新規参入者や高齢化した生産者に対して、玉切り原木を供給している。 廃ほだ木は、所有するチッパーで破砕処理を行っている。破砕後のチップは、ヤードで堆肥化したうえで、経営している直販店に出荷している農家に配布しており、循環型の農林業を実現している。この堆肥には、周辺の竹林を整備した際に生じる竹材を破砕処理した竹チップも混合しており、荒廃竹林対策としても有効な取組を実施している。
B57: ⑤女性の活躍状況（女性が働きやすい環境整備、女性の積極的な登用、女性の事業発展への貢献、波及性・普及性等）
B58: 〇〇氏の妻は、主にしいたけやほだ木採取の際に発生する未利用材を加工した商品の開発と販売に取り組んでいる。女性の視点を活かした多種多様な商品は、観光客をはじめとして多くの需要があり、収益の増加に大きく貢献している。毎週〇曜日は、直売所で販売員を務め、コミュニケーション能力の高さを活かしたセールストークは、客単価の向上につながっている。 後継者である娘は、経営に参画しながら、日々しいたけ栽培の技術習得に励んでおり、先端機器の導入や作業工程の見直しを図りながら、女性も作業しやすい環境づくりを進めており、将来的に女性作業員の雇用を計画している。
... B81: ⑦過去の受賞歴
B82: 受賞年月日 | C82: 行事の名称 | F82: 賞の名称 | J82: 備考
B85: ※天皇杯等三賞についても、受賞歴がある場合は記入する。また、親子等に同賞の受賞者がいる場合には備考欄に氏名及び続柄を記入してください。
B86: ※行数が足りない場合は、適宜追加してください。
B88: ○主催団体担当者連絡先
B89: 所属 | C89: ○○協同組合連合会事務局
B90: 担当者氏名
B91: 電話番号 | E91: 内線
B92: Ｅ－ＭＡＩＬ
B94: ○都道府県担当者連絡先
B95: 所属 | C95: ○○都道府県 ○○○部 ○○○課 ○○○係
B96: 担当者氏名
B97: 電話番号 | E97: 内線
B98: Ｅ－ＭＡＩＬ

Sheet 参考【低評価になりがちな例（受賞者の概況）】
G1: 経営・技術の特色等の記載の悪い例
B3: １．受賞者の概要 | C3: （事実に基づき正確な情報を記載）
B4: （１）～（５）略
B6: （６）経営・技術の特色等
B7: ①経営に対する理念
B14: ②経営の特色（規模拡大の経過、他林家との連携、簿記記帳、販売戦略、経営移譲、複合経営等）
B15: 森林組合に作業を委託し、樹齢の高い針葉樹を中心に皆伐し、長期施業を計画し、実行している。
B29: ③技術の特色（先進機器の導入、省力化、低コスト化、高品質化、環境保全への取組等）
B30: 高性能林業機械を所有する森林組合へ買取又は施業を委託している。
B53: ④地域に対する貢献（地域における位置づけ、他林家・地域に与える影響等）
B54: 長きにわたり地域の林業発展に貢献している。
B67: ⑤女性の活躍状況（女性が働きやすい環境整備、女性の積極的な登用、女性の事業発展への貢献、波及性・普及性等）
B68: ※「女性の活躍」選賞審査希望の場合は、別紙様式に記載。
B71: ※就業規則、家族経営協定、役員名簿等、女性の活躍状況が分かる資料を添付すること。
... B87: ⑦過去の受賞歴
B88: 受賞年月日 | C88: 行事の名称 | F88: 賞の名称 | J88: 備考
B91: ※天皇杯等三賞についても、受賞歴がある場合は記入する。また、親子等に同賞の受賞者がいる場合には備考欄に氏名及び続柄を記入してください。
B92: ※行数が足りない場合は、適宜追加してください。
B94: ○主催団体担当者連絡先
B95: 所属 | C95: ○○協同組合連合会事務局
B96: 担当者氏名
B97: 電話番号 | E97: 内線
B98: Ｅ－ＭＡＩＬ
B100: ○都道府県担当者連絡先
B101: 所属 | C101: ○○都道府県 ○○○部 ○○○課 ○○○係
B102: 担当者氏名
B103: 電話番号 | E103: 内線
B104: Ｅ－ＭＡＩＬ
